BEGIN:VCALENDAR
VERSION:2.0
PRODID:-//Legal Services of Eastern Missouri - ECPv6.15.20//NONSGML v1.0//EN
CALSCALE:GREGORIAN
METHOD:PUBLISH
X-WR-CALNAME:Legal Services of Eastern Missouri
X-ORIGINAL-URL:https://lsem.org
X-WR-CALDESC:Events for Legal Services of Eastern Missouri
REFRESH-INTERVAL;VALUE=DURATION:PT1H
X-Robots-Tag:noindex
X-PUBLISHED-TTL:PT1H
BEGIN:VTIMEZONE
TZID:UTC
BEGIN:STANDARD
TZOFFSETFROM:+0000
TZOFFSETTO:+0000
TZNAME:UTC
DTSTART:20170101T000000
END:STANDARD
END:VTIMEZONE
BEGIN:VEVENT
DTSTART;TZID=UTC:20180914T130000
DTEND;TZID=UTC:20180914T150000
DTSTAMP:20260421T054211
CREATED:20180914T015323Z
LAST-MODIFIED:20180914T015451Z
UID:10000182-1536930000-1536937200@lsem.org
SUMMARY:Centennial Plaza Apartments Health & Wellness Resource Day
DESCRIPTION:Legal Services of Eastern Missouri (LSEM) staff will provide information to residents about the legal assistance LSEM offers to seniors.
URL:https://lsem.org/lsem-events/centennial-plaza-apartments-health-wellness-resource-day/
LOCATION:Centennial Plaza Apartments\, 4115 McPherson Avenue\, St. Louis\, MO\, 63108\, United States
GEO:38.6420354;-90.2456869
X-APPLE-STRUCTURED-LOCATION;VALUE=URI;X-ADDRESS=Centennial Plaza Apartments 4115 McPherson Avenue St. Louis MO 63108 United States;X-APPLE-RADIUS=500;X-TITLE=4115 McPherson Avenue:geo:-90.2456869,38.6420354
END:VEVENT
END:VCALENDAR