BEGIN:VCALENDAR
VERSION:2.0
PRODID:-//Legal Services of Eastern Missouri - ECPv6.15.20//NONSGML v1.0//EN
CALSCALE:GREGORIAN
METHOD:PUBLISH
X-WR-CALNAME:Legal Services of Eastern Missouri
X-ORIGINAL-URL:https://lsem.org
X-WR-CALDESC:Events for Legal Services of Eastern Missouri
REFRESH-INTERVAL;VALUE=DURATION:PT1H
X-Robots-Tag:noindex
X-PUBLISHED-TTL:PT1H
BEGIN:VTIMEZONE
TZID:UTC
BEGIN:STANDARD
TZOFFSETFROM:+0000
TZOFFSETTO:+0000
TZNAME:UTC
DTSTART:20180101T000000
END:STANDARD
END:VTIMEZONE
BEGIN:VEVENT
DTSTART;TZID=UTC:20190425T160000
DTEND;TZID=UTC:20190425T210000
DTSTAMP:20260421T031208
CREATED:20190313T235648Z
LAST-MODIFIED:20190313T235929Z
UID:10000199-1556208000-1556226000@lsem.org
SUMMARY:Take Back The Night Walk & Resource Fair
DESCRIPTION:Join Legal Services of Eastern Missouri at the 2019 “Take Back The Night” Walk and Resource Fair. This annual event is part of an international movement\, and this event is hosted by Jefferson College in Hillsboro and seeks to create safe communities and respectful relationships through awareness events and initiatives\, hoping to end sexual assault\, domestic violence\, dating violence\, sexual abuse\, and all forms of sexual violence. \n  \nThe event starts at 4:00pm on Thursday\, April 25th\, with the walk commencing at 6:15 pm. For more information\, please visit: https://www.jeffco.edu/TBTN
URL:https://lsem.org/lsem-events/take-back-the-night-walk-resource-fair/
LOCATION:Jefferson College Field House\, 1000 Viking Drive\, Hillsboro\, MO\, 63050\, United States
ATTACH;FMTTYPE=image/jpeg:https://lsem.org/wp-content/uploads/2019/03/Take-back-the-night.jpg
ORGANIZER;CN="Take Back The Night":MAILTO:kbogue1@jeffco.edu
GEO:38.2584832;-90.5604308
X-APPLE-STRUCTURED-LOCATION;VALUE=URI;X-ADDRESS=Jefferson College Field House 1000 Viking Drive Hillsboro MO 63050 United States;X-APPLE-RADIUS=500;X-TITLE=1000 Viking Drive:geo:-90.5604308,38.2584832
END:VEVENT
END:VCALENDAR