BEGIN:VCALENDAR
VERSION:2.0
PRODID:-//Legal Services of Eastern Missouri - ECPv6.15.20//NONSGML v1.0//EN
CALSCALE:GREGORIAN
METHOD:PUBLISH
X-ORIGINAL-URL:https://lsem.org
X-WR-CALDESC:Events for Legal Services of Eastern Missouri
REFRESH-INTERVAL;VALUE=DURATION:PT1H
X-Robots-Tag:noindex
X-PUBLISHED-TTL:PT1H
BEGIN:VTIMEZONE
TZID:UTC
BEGIN:STANDARD
TZOFFSETFROM:+0000
TZOFFSETTO:+0000
TZNAME:UTC
DTSTART:20180101T000000
END:STANDARD
END:VTIMEZONE
BEGIN:VEVENT
DTSTART;TZID=UTC:20190810T090000
DTEND;TZID=UTC:20190810T120000
DTSTAMP:20260421T055447
CREATED:20190620T214159Z
LAST-MODIFIED:20190620T214159Z
UID:10000221-1565427600-1565438400@lsem.org
SUMMARY:Pike County Back2School Fair
DESCRIPTION:Join Legal Services at the Pike County Back 2 School Fair on Saturday\, August 10th\, 9:00 am to 12:00 pm at the Pike County Fairgrounds. \nThe event will include free backpacks with school supplies\, free haircuts\, toothbrushes and hot dogs\, health screenings and informational booths including Legal Services staff with information about educational rights and advocacy. This event is for Pike County students only\, and students must be present for giveaway items.
URL:https://lsem.org/lsem-events/pike-county-back2school-fair/
LOCATION:Pike County Fairgrounds\, 15884 Highway 54\, Bowling Green\, MO\, 63334\, United States
ATTACH;FMTTYPE=image/jpeg:https://lsem.org/wp-content/uploads/2019/06/Pike-County-Back-to-School-Flyer-2019.jpg
GEO:39.3649252;-91.1825163
X-APPLE-STRUCTURED-LOCATION;VALUE=URI;X-ADDRESS=Pike County Fairgrounds 15884 Highway 54 Bowling Green MO 63334 United States;X-APPLE-RADIUS=500;X-TITLE=15884 Highway 54:geo:-91.1825163,39.3649252
END:VEVENT
END:VCALENDAR