BEGIN:VCALENDAR
VERSION:2.0
PRODID:-//Legal Services of Eastern Missouri - ECPv6.15.20//NONSGML v1.0//EN
CALSCALE:GREGORIAN
METHOD:PUBLISH
X-WR-CALNAME:Legal Services of Eastern Missouri
X-ORIGINAL-URL:https://lsem.org
X-WR-CALDESC:Events for Legal Services of Eastern Missouri
REFRESH-INTERVAL;VALUE=DURATION:PT1H
X-Robots-Tag:noindex
X-PUBLISHED-TTL:PT1H
BEGIN:VTIMEZONE
TZID:UTC
BEGIN:STANDARD
TZOFFSETFROM:+0000
TZOFFSETTO:+0000
TZNAME:UTC
DTSTART:20170101T000000
END:STANDARD
END:VTIMEZONE
BEGIN:VEVENT
DTSTART;TZID=UTC:20180906T133000
DTEND;TZID=UTC:20180906T163000
DTSTAMP:20260421T042132
CREATED:20180827T215326Z
LAST-MODIFIED:20180827T215443Z
UID:10000180-1536240600-1536251400@lsem.org
SUMMARY:Youth & Family Advocacy Legal Clinic at the SPOT
DESCRIPTION:Join staff from our Youth & Family Advocacy Program for a free legal clinic at the SPOT in the Central West End on Thursday\, September 6th from 1:30 pm – 4:30 pm. \nStaff will be meeting with youth to see if we can assist with civil legal issues that are keeping them from being stably housed\, getting or keeping employment\, or from living their life as safely as possible. \nTHIS CLINIC IS SCHEDULED ON A REGULAR SCHEDULE FOR EVERY OTHER THURSDAY!
URL:https://lsem.org/lsem-events/youth-family-advocacy-legal-clinic-at-the-spot/
LOCATION:The SPOT\, 4169 Laclede Avenue\, St. Louis\, MO\, 63108\, United States
GEO:38.6378818;-90.2490758
X-APPLE-STRUCTURED-LOCATION;VALUE=URI;X-ADDRESS=The SPOT 4169 Laclede Avenue St. Louis MO 63108 United States;X-APPLE-RADIUS=500;X-TITLE=4169 Laclede Avenue:geo:-90.2490758,38.6378818
END:VEVENT
END:VCALENDAR